Workbook

Sheet Menu
Q22: d

Sheet Instruções
D3: INSTRUÇÕES E FUNÇÕES DA PLANILHA
F7: 1º | G7: O preenchimento da planilha é bem simples. Ao lado você consegue visualizar os ícones do MENU que estão em todas as opções da planilha e que irá te direcionar até as respectivas opções cujas funções se encontram na tabela abaixo.
F9: 2º | G9: Ao clicar em uma opção do MENU, em cada planilha você terá campos com cores diferentes para te auxiliar no preenchimento da mesma de forma simples para te retornar resultados automáticos e eficazes conforme a legenda abaixo:
F11: LEGENDA PARA PREENCIMENTO:
F13: Amarelo | H13: Células da cor Amarelo são as únicas que podem ser preenchidas. | AB13: INSTRUÇÕES PARA PREENCHIMENTO
F15: Verde Claro | H15: Células da cor Verde Claro sempre irão retornar automáticamente resultados provenientes de cálculos.
H17: Células de outras cores são apenas para leitura.
F19: ATENÇÃO: Não preencha nenhuma outra célula para não desconfigurar as fórmulas presente na planilha portanto edite apenas as célula de cor (Amarelo).
F20: 3º | G20: Sempre que você for realizar algum lançamento de custos da planilha, realização de saques ou compensação de prejuízos anteriores é necessário que você insira o sinal de subtração (-) antes de colocar o valor e certifique-se que o valor ficará com a cor vermelha.
D24: OPÇÕES | H24: FUNÇÕES
D27: PLANO DE TRADE | G27: RESUMO | H27: Preencha primeiramente a margem de garantia para você operar cada ativo, depois defina a quantidade de pontos da sua estratégia operacional e leia atentamente as linhas para definir os limites de perda e meta diária deixando bem claro o seu plano de trade ao finalizar o preenchimento respondendo às perguntas determinando qual será seu comportamento ao alcançar sua meta esclarecendo também qual é o seu propósito em ser Trader.
G29: 1 | H29: Descubra automaticamente o valor em reais que representa a quantidade de Loss e de Gain que você definir para cada ativo em sua estratégia operacional.
G31: 2 | H31: Defina os percentuais de limite de perda por operação, diário e semanal e saiba quantos reais e quantos pontos ele representa, além disso descubra automaticamente também quantos Stops Loss restam para seu Patrimônio Acumulado chegar a zero se cada limite for atingido.
G33: 3 | H33: Tenha claramente a quantidade máxima de contratos que você pode comprar ou vender simultaneamente, mas veja principalmente o número de contratos máximo que você poderá operar conforme os limites estabelecidos em seu Plano de Trade.
G35: 4 | H35: Saiba automaticamente também qual é a quantidade máxima de operações que você poderá fazer no dia conforme seu Plano de Trade, baseada na quantidade máxima de operações consecutivas mínima possível para você alcançar sua meta diária.
G37: 5 | H37: A planilha irá te revelar antes mesmo de você iniciar suas operações a cada dia qual é a quantidade limite de Stops Loss consecutivos que se atingida você precisa parar de operar no dia, como também qual a quantidade de Stops Gains consecutivos que você precisa ter para alcançar sua meta diária em cada ativo.
G39: 6 | H39: A planilha irá te informar automaticamente se os limites de perda máxima que você definiu estão congruentes com sua estratégia operacional ou se se o Plano de Trade definido compromete seu patrimônio financeiro te indicando se será permitido você operar ou qual a ação você precisa tomar para ser possível.
G41: 7 | H41: Saiba claramente o que fazer quando você alcançar sua meta diária entendendo se você continuará operando ou não, qual a condição para continuar a operar, qual a estratégia operacional irá operar, qual a condição para voltar a operar com a estratégia padrão, quantos lotes irá operar, qual a condição para aumentar para a quantidade de lotes padrão e qual a condição para parar de operar nesse segundo momento depois de ter alcançado sua meta diária.
G43: 8 | H43: Tenha de forma clara também o que fazer quando atingir o limite de perda diária evitando perder um capital que comprometa seu patrimônio, sabendo o que fazer para melhorar o operacional para os próximos pregões.
G45: 9 | H45: Entenda o real motivo que fará você manter a disciplina e alcançar suas metas financeiras evitando cometer erros que envolve principalmente fatores mentais e emocionais ao definir claramente qual é o seu Propósito em ser Trader.
D48: PROJEÇÃO DE RESULTADOS | G48: PRINCIPAL | H48: Preencha as células em Amarelo desta planilha ao ler e interpretar o texto especificando uma Meta Financeira, Data de Realização da Meta, Data de Início da Meta e Capital Inicial. Depois simule um Plano de Trade em qualquer ativo que você desejar.
G50: 1 | H50: Descubra o percentual ao mês que você precisa faturar para alcançar sua meta financeira a partir do seu capital inicial.
G52: 2 | H52: Saiba também o percentual ao mês que você precisa faturar para alcançar sua meta financeira a partir do seu patrimônio acumulado.
G54: 3 | H54: Conforme o seu Plano de Trade descubra se sua meta financeira é alcançável ou não no prazo estipulado.
G56: 4 | H56: Saiba antecipadamente qual é o resultado financeiro em reais que você precisa alcançar mês a mês para atingir sua Meta Financeira no prazo estipulado.
G58: 5 | H58: Saiba também qual é o percentual que representa sua Meta Mensal atual conforme o Plano de Trade que você definiu e quanto representa em reais esse percentual.
G60: 6 | H60: Ao informar na planilha o resultado que você de fato alcançou no mês, automaticamente você saberá o percentual que o resultado representa e se ele alcançou a meta do mês ou não.
G62: 7 | H62: Visualize facilmente o valor no mês em reais que ficou faltando ou que você fez à mais em relação à sua Meta Mensal Almejada quando finalizar o mês..
G64: 8 | H64: Saiba antecipadamente qual o valor que estará faltando para você alcançar a sua Meta Financeira Total.
G66: 9 | H66: Simule um Plano de Trade completo em qualquer ativo que desejar.
G68: 10 | H68: Baseado nas condições do Plano de Trade simulado, descubra qual o valor financeiro bruto e líquido que você terá no final do dia conforme um índice de assertividade que você determinar.
D71: RESULTADOS | G71: PRINCIPAL | H71: Primeiramente preencha qual é seu capital inicial, as taxas operacionais de cada ativo e diariamente faça o lançamento do valor bruto alcançado em suas operações, a quantidade de operações vencedora, perdedoras e zeradas, a quantidade de contratos operado, outros custos custos que aparece na nota de corretagem, custos não operacionais visíveis conta corrente junto da corretora, e caso você realizar algum saque ou aporte financeiro também realize todos os lançamentos na planilha.
G73: 1 | H73: A planilha te informará automaticamente o número total de operações realizadas diariamente e o seu índice de assertividade em operações em todos os dias do ano tanto no mini dólar quanto no mini índice de forma separada juntamente o saldo líquido conquistado em cada ativo.
G75: 2 | H75: Tenha de forma detalhada e resumida todos os custos operacionais referentes a todos os dias do ano que você operar, baseados no número de contratos operados em cada ativo separadamente como Corretagem, Taxa de Registro e Emolumentos da B3, ISS, IR Retido da Fonte e outros custos que serviram como base de calculo para você gerar a DARF e Declarar o Imposto de Renda corretamente, calculados conforme a Receita Federal estabelece para que você desenvolva a profissional de Day Trade cumprindo com suas obrigações fiscais evitando multas e processos judiciais.
G77: 3 | H77: Saiba automaticamente e de forma exata qual é o seu patrimônio acumulado total e seu saldo líquido em cada dia e mês do ano de forma separada para cada ativo.
D80: DARF/DECLARAÇÃO IR | G80: PRINCIPAL | H80: Somente se você possuir histórico de operações em meses e anos anteriores preencha as células com o saldo líquido do último mês operado, o prejuízo acumulado de anos anteriores, valores da DARF e de IRRF a compensar em meses futuros caso existam e através desses dados a planilha de forma precisa irá informar automaticamente todos os dados para emissão de documentos importantes para te manter regularizado(a) na profissão de Trader.
G82: 1 | H82: Descubra facilmente em qual mês você precisa gerar e pagar a DARF e qual é o valor da mesma, calculado da forma correta.
G84: 2 | H84: Tenha de forma simples e automática todos os dados para você realizar a Declaração de IR anual obrigatória para Day Trade corretamente, como saldo líquido das operações separada por ativo, soma do IRRF e valores pago das DARFs dos meses antes.
D87: CUSTOS DA B3 | G87: PRINCIPAL | H87: Sempre que quiser conferir com precisão quais são os custos cobradas pela B3 que incide sobre as operações do mini dólar e mini índice e comparar com os dados da nota de corretagem você pode clicar nos links indicados para atualizar as tabelas preenchendo todas as informações das células em Amarelo para ter de forma automática e exata a Taxa de Registro e Emolumentos atuais do mês.

Sheet Plano de Trade
C3: PLANO DE TRADE
D5: WDO | K5: WIN
D6: GAIN/LOSS (1 pto) | G6: Margem de Garantia (1 lote) | K6: GAIN/LOSS (1 pto) | N6: Margem de Garantia (1 lote)
D7: 10 | G7: 25 | K7: 0.2 | N7: 20
D9: ESTRATÉGIA OPERACIONAL (pts) | K9: ESTRATÉGIA OPERACIONAL (pts)
D10: STOP LOSS | G10: STOP GAIN | K10: STOP LOSS | N10: STOP GAIN
D11: 5 | G11: 3 | K11: 250 | N11: 150
D12: =IF(OR(D11>I18,G18<(D11*D7),E35>D41,H35>D41),"Risco de perda do capital!",(D11*$D$7)) -> 50 | G12: =G11*$D$7 -> 30 | K12: =IF(OR(K11>P18,N18<(K11*K7),L35>K41,O35>K41),"Risco de perda do capital!",(K11*$K$7)) -> 50 | N12: =N11*$K$7 -> 30
D14: LIMITES DE PERDA | K14: LIMITES DE PERDA
D15: Meu saldo disponível para investimento no início do pregão de HOJE é de | K15: Meu saldo disponível para investimento no início do pregão de HOJE é de
D16: =Resultados!J381 -> 6000 | K16: =Resultados!J381 -> 6000
D17: deste total, se eu operar apenas o mini dólar eu me comprometo assumir o risco de perda máxima de | K17: deste total, se eu operar apenas o mini dólar eu me comprometo assumir o risco de perda máxima de
D18: 0.01 | E18: por operação, que equivale a | G18: =D16*D18 -> 60 | H18: , ou seja, | I18: =ROUNDUP(G18/D$7,0) -> 6 | K18: 0.01 | L18: por operação, que equivale a | N18: =K16*K18 -> 60 | O18: , ou seja, | P18: =N18/K$7 -> 300
D19: pontos. Atingindo esse limite, para perder todo capital restará | H19: =ROUNDDOWN((D$16-G18)/($D$12*$D$41),0) -> 59 | I19: STOPs LOSS. | K19: pontos. Atingindo esse limite, para perder todo capital restará | O19: =ROUNDDOWN((K$16-N18)/($K$12*$K$41),0) -> 59 | P19: STOPs LOSS.
D20: 0.03 | E20: por dia, que equivale a | G20: =D16*D20 -> 180 | H20: , ou seja, | I20: =ROUNDUP(G20/D$7,0) -> 18 | K20: 0.03 | L20: por dia, que equivale a | N20: =K16*K20 -> 180 | O20: , ou seja, | P20: =N20/K$7 -> 900
D21: pontos. Atingindo esse limite, para perder todo capital restará | H21: =ROUNDDOWN((D$16-G20)/($D$12*$D$41),0) -> 58 | I21: STOPs LOSS. | K21: pontos. Atingindo esse limite, para perder todo capital restará | O21: =ROUNDDOWN((K$16-N20)/($D$12*$D$41),0) -> 58 | P21: STOPs LOSS.
D22: 0.05 | E22: por semana, que equivale a | G22: =D16*D22 -> 300 | H22: , ou seja, | I22: =ROUNDUP(G22/D$7,0) -> 30 | K22: 0.05 | L22: por semana, que equivale a | N22: =K16*K22 -> 300 | O22: , ou seja, | P22: =N22/K$7 -> 1500
D23: pontos. Atingindo esse limite, para perder todo capital restará | H23: =ROUNDDOWN((D$16-G22)/($D$12*$D$41),0) -> 57 | I23: STOPs LOSS. | K23: pontos. Atingindo esse limite, para perder todo capital restará | O23: =ROUNDDOWN((K$16-N22)/($D$12*$D$41),0) -> 57 | P23: STOPs LOSS.
D25: LIMITE PERDA E META DIÁRIA | K25: LIMITE PERDA E META DIÁRIA
D26: Meu risco por dia é de | G26: Minha meta por dia é de | K26: Meu risco por dia é de | N26: Minha meta por dia é de
D27: =D20 -> 0.03 | G27: 0.1 | K27: =K20 -> 0.03 | N27: 0.1
D28: sobre meu capital inicial do dia, que equivale a | G28: sobre meu capital inicial do dia, que equivale a | K28: sobre meu capital inicial do dia, que equivale a | N28: sobre meu capital inicial do dia, que equivale a
D29: =D27*-D16 -> -180 | G29: =G27*D16 -> 600 | K29: =K27*-K16 -> -180 | N29: =N27*K16 -> 600
D30: o mesmo que | G30: sendo necessário | K30: o mesmo que | N30: sendo necessário
D31: =ROUNDUP(D29/(-D12*E35),0) -> 2 | G31: =ROUNDUP(($G$29/(G12*H35)),0) -> 10 | K31: =ROUNDUP(K29/(-K12*K41),0) -> 2 | N31: =ROUNDUP(($N$29/(N12*K41)),0) -> 10
D32: operações perdedoras para atingir esse resultado, o equivalente a | G32: operações vencedoras e nenhuma perdedora para alcançar essa meta, o equivalente a | K32: operações perdedoras para atingir esse resultado, o equivalente a | N32: operações vencedoras e nenhuma perdedora para alcançar essa meta, o equivalente a
D34: =D31*D11 -> 10 | G34: =G31*G11 -> 30 | K34: =K31*K11 -> 500 | N34: =N31*N11 -> 1500
D35: pts operando | E35: 2 | F35: contratos. | G35: pts operando o número máximo de lotes permitido. | H35: 2 | I35: contratos. | K35: pts operando | L35: 2 | M35: contratos. | N35: pts operando | O35: 2 | P35: contratos.
D39: Conforme a margem de garantia da corretora tenho até | H39: =D16/G7 -> 240 | I39: contratos | K39: Conforme a margem de garantia da corretora tenho até | O39: =K16/N7 -> 300 | P39: contratos
D40: para operar, porém conforme meu plano de trader o Nº de contratos permitidos por operação é | K40: para operar, porém conforme meu plano de trader o Nº de contratos permitidos por operação é
D41: =ROUNDUP(D18/((D11*D7)/D16),0) -> 2 | K41: =ROUNDUP(K18/((K11*K7)/K16),0) -> 2
D42: e o número máximo de operações diárias que posso executar são | K42: e o número máximo de operações diárias que posso executar são
D43: =G31*2 -> 20 | K43: =N31*2 -> 20
D44: Baseado nesse meu Plano de Trade pretendo ter um índice de assertividade diária no WDO de no mínimo | K44: Baseado nesse meu Plano de Trade pretendo ter um índice de assertividade diária no WIN de no mínimo
D45: 0.7 | K45: 0.5
D48: CONCLUSÃO | K48: CONCLUSÃO
D49: =IF(OR(D11>I18,G18<(D11*D7),E35>D41,H35>D41),"Seu Plano de Trade compromete seu capital de investimento! Reavalie seus LIMITES DE PERDA MÁXIMA, quantidade de LOTES ou sua Estratégia Operacional ajustando seu Stop Loss e Gain.","Seus limites de perda máxima estão congruentes com sua estratégia operacioanal, por isso hoje você pode operar normalmente.") -> Seus limites de perda máxima estão congruentes com sua estratégia operacioanal, por isso hoje você pode operar normalmente. | K49: =IF(OR(K11>P18,N18<(K11*K7),L35>K41,O35>K41),"Seu Plano de Trade compromete seu capital de investimento! Reavalie seus LIMITES DE PERDA MÁXIMA, quantidade de LOTES ou sua Estratégia Operacional ajustando seu Stop Loss e Gain.","Seus limites de perda máxima estão congruentes com sua estratégia operacioanal, por isso hoje você pode operar normalmente.") -> Seus limites de perda máxima estão congruentes com sua estratégia operacioanal, por isso hoje você pode operar normalmente.
D54: O QUE DEVO FAZER QUANDO ATINGIR MINHA META DIÁRIA? | K54: O QUE DEVO FAZER QUANDO ATINGIR MINHA META DIÁRIA?
D57: Vou continuar a operar? | K57: Vou continuar a operar?
D58: Sim. | K58: Sim.
...

Sheet Projeção de Resultados
C3: PROJEÇÃO DE RESULTADOS
C5: SIMULANDO MINHA META FINANCEIRA | Q5: SIMULANDO MEU PLANO DE TRADE
C6: Minha meta financeira é ter em conta | G6: 10000 | I6: no dia | J6: 46023 | K6: . Iniciei ela dia | L6: 45870 | M6: com o capital de | N6: 6000 | Q6: WDO | W6: =(YEAR(J6)-YEAR(L6))*12+MONTH(J6)-MONTH(L6) -> 5
C7: ou seja, eu precisaria faturar | F7: =RATE(W6,,-N6,G6) -> 0.10756634 | G7: ao mês para alcança-la, mas como meu patrimônio hoje, dia | L7: =TODAY() -> 46300 | M7: é igual a | N7: =Resultados!J381 -> 6000 | Q7: GAIN/LOSS (1 pto) | S7: Margem de Garantia (1 lote) | U7: Total de Custos Operacionais | W7: =(YEAR(J6)-YEAR(L7))*12+MONTH(J6)-MONTH(L7) -> -9
C8: eu preciso faturar no mercado | F8: =RATE(W7,,-N7,G6) -> -0.055177692 | G8: ao mês caso eu deseje realiza-la no prazo, que nesse momento equivale a | M8: =N7*F8 -> -331.06615 | N8: porém, conforme meu plano | Q8: 10 | S8: 25 | U8: 2.6
C9: de trade que está definido aqui | F9: ='Plano de Trade'!D22*4 -> 0.2 | G9: ao mês é minha meta de faturamento, o que representaria o valor exato de | M9: =N7*F9 -> 1200 | N9: =IF(M9>=M8,", logo ela é alcançável.",", logo ela não é alcançável.") -> , logo ela é alcançável. | Q9: ESTRATÉGIA OPERACIONAL (pts)
D11: Abaixo consigo ver a projeção de resultados para os próximos 10 anos baseado na meta financeira que pretendo alcançar a partir da data atual e, conforme a data que iniciei, consigo ter a projeção também para os próximos 10 anos sabendo qual valor ela representava e se estou conseguindo alcança-la ou não conforme minhas operações ao longo do ano sabendo o tanto que faltou para alcança-la ou o tanto que a ultrapassei. | Q11: STOP LOSS | T11: STOP GAIN
Q12: 2 | T12: 2
Q13: =IF(OR(Q12>V20,T20<(Q12*Q8),),"Risco de perda do capital!",(Q12*$Q$8)) -> 20 | T13: =T12*Q8 -> 20
C15: DATA ATUAL | D15: (R$) META ALMEJADA - Capital Acumulado | F15: DATA INICIAL | G15: (R$) META ALMEJADA - Capital Inicial | I15: RESULTADO ALCANÇADO (R$) | K15: RESULTADO ALCANÇADO (%) | L15: SALDO SOBRE META ALMEJADA | N15: SALDO SOBRE A META FINANCEIRA TOTAL
C16: =MONTH($L$7)&"/"&YEAR(L7) -> 10/2026 | D16: =IF(OR(F8=0,F8=0),0,N$7*F$8+$N$7) -> 5668.9339 | F16: =MONTH($J$6)&"/"&YEAR(L6) -> 1/2025 | G16: =IF(OR(F7=0,F7=0),0,N$6*F$7+$N$6) -> 6645.3981 | K16: =IFERROR(((I16/G16)/I16)*(I16-G16),0) -> 0 | L16: =I16-G16 -> -6645.3981 | N16: =$G$6-I16 -> 10000 | Q16: LIMITES DE PERDA
C17: =IF(MONTH(C16)=12,MONTH(1),MONTH(C16)+1)&"/"&IF(MONTH(C16)=12,YEAR(C16)+1,YEAR(C16)) -> 11/2026 | D17: =IF($D$16=0,"-",D16*$F$8+D16) -> 5356.1352 | F17: =IF(MONTH(F16)=12,MONTH(1),MONTH(F16)+1)&"/"&IF(MONTH(F16)=12,YEAR(F16)+1,YEAR(F16)) -> 2/2025 | G17: =IF($G$16=0,"-",G16*$F$7+G16) -> 7360.2192 | K17: =IFERROR(((I17/G17)/I17)*(I17-G17),0) -> 0 | L17: =I17-G17 -> -7360.2192 | N17: =N16-I17 -> 10000 | Q17: Meu saldo disponível para investimento no início do pregão de HOJE é de
C18: =IF(MONTH(C17)=12,MONTH(1),MONTH(C17)+1)&"/"&IF(MONTH(C17)=12,YEAR(C17)+1,YEAR(C17)) -> 12/2026 | D18: =IF($D$16=0,"-",D17*$F$8+D17) -> 5060.596 | F18: =IF(MONTH(F17)=12,MONTH(1),MONTH(F17)+1)&"/"&IF(MONTH(F17)=12,YEAR(F17)+1,YEAR(F17)) -> 3/2025 | G18: =IF($G$16=0,"-",G17*$F$7+G17) -> 8151.9311 | K18: =IFERROR(((I18/G18)/I18)*(I18-G18),0) -> 0 | L18: =I18-G18 -> -8151.9311 | N18: =N17-I18 -> 10000 | Q18: 1000
C19: =IF(MONTH(C18)=12,MONTH(1),MONTH(C18)+1)&"/"&IF(MONTH(C18)=12,YEAR(C18)+1,YEAR(C18)) -> 1/2027 | D19: =IF($D$16=0,"-",D18*$F$8+D18) -> 4781.364 | F19: =IF(MONTH(F18)=12,MONTH(1),MONTH(F18)+1)&"/"&IF(MONTH(F18)=12,YEAR(F18)+1,YEAR(F18)) -> 4/2025 | G19: =IF($G$16=0,"-",G18*$F$7+G18) -> 9028.8045 | K19: =IFERROR(((I19/G19)/I19)*(I19-G19),0) -> 0 | L19: =I19-G19 -> -9028.8045 | N19: =N18-I19 -> 10000 | Q19: deste total, eu me comprometo assumir o risco de perda máxima de
C20: =IF(MONTH(C19)=12,MONTH(1),MONTH(C19)+1)&"/"&IF(MONTH(C19)=12,YEAR(C19)+1,YEAR(C19)) -> 2/2027 | D20: =IF($D$16=0,"-",D19*$F$8+D19) -> 4517.5394 | F20: =IF(MONTH(F19)=12,MONTH(1),MONTH(F19)+1)&"/"&IF(MONTH(F19)=12,YEAR(F19)+1,YEAR(F19)) -> 5/2025 | G20: =IF($G$16=0,"-",G19*$F$7+G19) -> 10000 | K20: =IFERROR(((I20/G20)/I20)*(I20-G20),0) -> 0 | L20: =I20-G20 -> -10000 | N20: =N19-I20 -> 10000 | Q20: 0.05 | R20: por operação, que equivale a | T20: =Q18*Q20 -> 50 | U20: , ou seja, | V20: =ROUNDUP(T20/Q$8,0) -> 5
C21: =IF(MONTH(C20)=12,MONTH(1),MONTH(C20)+1)&"/"&IF(MONTH(C20)=12,YEAR(C20)+1,YEAR(C20)) -> 3/2027 | D21: =IF($D$16=0,"-",D20*$F$8+D20) -> 4268.272 | F21: =IF(MONTH(F20)=12,MONTH(1),MONTH(F20)+1)&"/"&IF(MONTH(F20)=12,YEAR(F20)+1,YEAR(F20)) -> 6/2025 | G21: =IF($G$16=0,"-",G20*$F$7+G20) -> 11075.663 | K21: =IFERROR(((I21/G21)/I21)*(I21-G21),0) -> 0 | L21: =I21-G21 -> -11075.663 | N21: =N20-I21 -> 10000 | Q21: pontos. Atingindo esse limite, para perder todo capital restará | U21: =ROUNDDOWN((Q$18-T20)/($Q$13*$Q$45),0) -> 15 | V21: STOPs LOSS.
C22: =IF(MONTH(C21)=12,MONTH(1),MONTH(C21)+1)&"/"&IF(MONTH(C21)=12,YEAR(C21)+1,YEAR(C21)) -> 4/2027 | D22: =IF($D$16=0,"-",D21*$F$8+D21) -> 4032.7586 | F22: =IF(MONTH(F21)=12,MONTH(1),MONTH(F21)+1)&"/"&IF(MONTH(F21)=12,YEAR(F21)+1,YEAR(F21)) -> 7/2025 | G22: =IF($G$16=0,"-",G21*$F$7+G21) -> 12267.032 | K22: =IFERROR(((I22/G22)/I22)*(I22-G22),0) -> 0 | L22: =I22-G22 -> -12267.032 | N22: =N21-I22 -> 10000 | Q22: 0.1 | R22: por dia, que equivale a | T22: =Q18*Q22 -> 100 | U22: , ou seja, | V22: =ROUNDUP(T22/Q$8,0) -> 10
C23: =IF(MONTH(C22)=12,MONTH(1),MONTH(C22)+1)&"/"&IF(MONTH(C22)=12,YEAR(C22)+1,YEAR(C22)) -> 5/2027 | D23: =IF($D$16=0,"-",D22*$F$8+D22) -> 3810.2403 | F23: =IF(MONTH(F22)=12,MONTH(1),MONTH(F22)+1)&"/"&IF(MONTH(F22)=12,YEAR(F22)+1,YEAR(F22)) -> 8/2025 | G23: =IF($G$16=0,"-",G22*$F$7+G22) -> 13586.552 | K23: =IFERROR(((I23/G23)/I23)*(I23-G23),0) -> 0 | L23: =I23-G23 -> -13586.552 | N23: =N22-I23 -> 10000 | Q23: pontos. Atingindo esse limite, para perder todo capital restará | U23: =ROUNDDOWN((Q$18-T22)/($Q$13*$Q$45),0) -> 15 | V23: STOPs LOSS.
C24: =IF(MONTH(C23)=12,MONTH(1),MONTH(C23)+1)&"/"&IF(MONTH(C23)=12,YEAR(C23)+1,YEAR(C23)) -> 6/2027 | D24: =IF($D$16=0,"-",D23*$F$8+D23) -> 3600 | F24: =IF(MONTH(F23)=12,MONTH(1),MONTH(F23)+1)&"/"&IF(MONTH(F23)=12,YEAR(F23)+1,YEAR(F23)) -> 9/2025 | G24: =IF($G$16=0,"-",G23*$F$7+G23) -> 15048.008 | K24: =IFERROR(((I24/G24)/I24)*(I24-G24),0) -> 0 | L24: =I24-G24 -> -15048.008 | N24: =N23-I24 -> 10000 | Q24: 0.2 | R24: por semana, que equivale a | T24: =Q18*Q24 -> 200 | U24: , ou seja, | V24: =ROUNDUP(T24/Q$8,0) -> 20
C25: =IF(MONTH(C24)=12,MONTH(1),MONTH(C24)+1)&"/"&IF(MONTH(C24)=12,YEAR(C24)+1,YEAR(C24)) -> 7/2027 | D25: =IF($D$16=0,"-",D24*$F$8+D24) -> 3401.3603 | F25: =IF(MONTH(F24)=12,MONTH(1),MONTH(F24)+1)&"/"&IF(MONTH(F24)=12,YEAR(F24)+1,YEAR(F24)) -> 10/2025 | G25: =IF($G$16=0,"-",G24*$F$7+G24) -> 16666.667 | K25: =IFERROR(((I25/G25)/I25)*(I25-G25),0) -> 0 | L25: =I25-G25 -> -16666.667 | N25: =N24-I25 -> 10000 | Q25: pontos. Atingindo esse limite, para perder todo capital restará | U25: =ROUNDDOWN((Q$18-T24)/($Q$13*$Q$45),0) -> 13 | V25: STOPs LOSS.
C26: =IF(MONTH(C25)=12,MONTH(1),MONTH(C25)+1)&"/"&IF(MONTH(C25)=12,YEAR(C25)+1,YEAR(C25)) -> 8/2027 | D26: =IF($D$16=0,"-",D25*$F$8+D25) -> 3213.6811 | F26: =IF(MONTH(F25)=12,MONTH(1),MONTH(F25)+1)&"/"&IF(MONTH(F25)=12,YEAR(F25)+1,YEAR(F25)) -> 11/2025 | G26: =IF($G$16=0,"-",G25*$F$7+G25) -> 18459.439 | K26: =IFERROR(((I26/G26)/I26)*(I26-G26),0) -> 0 | L26: =I26-G26 -> -18459.439 | N26: =N25-I26 -> 10000
C27: =IF(MONTH(C26)=12,MONTH(1),MONTH(C26)+1)&"/"&IF(MONTH(C26)=12,YEAR(C26)+1,YEAR(C26)) -> 9/2027 | D27: =IF($D$16=0,"-",D26*$F$8+D26) -> 3036.3576 | F27: =IF(MONTH(F26)=12,MONTH(1),MONTH(F26)+1)&"/"&IF(MONTH(F26)=12,YEAR(F26)+1,YEAR(F26)) -> 12/2025 | G27: =IF($G$16=0,"-",G26*$F$7+G26) -> 20445.053 | K27: =IFERROR(((I27/G27)/I27)*(I27-G27),0) -> 0 | L27: =I27-G27 -> -20445.053 | N27: =N26-I27 -> 10000
C28: =IF(MONTH(C27)=12,MONTH(1),MONTH(C27)+1)&"/"&IF(MONTH(C27)=12,YEAR(C27)+1,YEAR(C27)) -> 10/2027 | D28: =IF($D$16=0,"-",D27*$F$8+D27) -> 2868.8184 | F28: =IF(MONTH(F27)=12,MONTH(1),MONTH(F27)+1)&"/"&IF(MONTH(F27)=12,YEAR(F27)+1,YEAR(F27)) -> 1/2026 | G28: =IF($G$16=0,"-",G27*$F$7+G27) -> 22644.253 | K28: =IFERROR(((I28/G28)/I28)*(I28-G28),0) -> 0 | L28: =I28-G28 -> -22644.253 | N28: =N27-I28 -> 10000 | Q28: LIMITE DE PERDA E META DIÁRIA
C29: =IF(MONTH(C28)=12,MONTH(1),MONTH(C28)+1)&"/"&IF(MONTH(C28)=12,YEAR(C28)+1,YEAR(C28)) -> 11/2027 | D29: =IF($D$16=0,"-",D28*$F$8+D28) -> 2710.5236 | F29: =IF(MONTH(F28)=12,MONTH(1),MONTH(F28)+1)&"/"&IF(MONTH(F28)=12,YEAR(F28)+1,YEAR(F28)) -> 2/2026 | G29: =IF($G$16=0,"-",G28*$F$7+G28) -> 25080.013 | K29: =IFERROR(((I29/G29)/I29)*(I29-G29),0) -> 0 | L29: =I29-G29 -> -25080.013 | N29: =N28-I29 -> 10000
C30: =IF(MONTH(C29)=12,MONTH(1),MONTH(C29)+1)&"/"&IF(MONTH(C29)=12,YEAR(C29)+1,YEAR(C29)) -> 12/2027 | D30: =IF($D$16=0,"-",D29*$F$8+D29) -> 2560.9632 | F30: =IF(MONTH(F29)=12,MONTH(1),MONTH(F29)+1)&"/"&IF(MONTH(F29)=12,YEAR(F29)+1,YEAR(F29)) -> 3/2026 | G30: =IF($G$16=0,"-",G29*$F$7+G29) -> 27777.778 | K30: =IFERROR(((I30/G30)/I30)*(I30-G30),0) -> 0 | L30: =I30-G30 -> -27777.778 | N30: =N29-I30 -> 10000
C31: =IF(MONTH(C30)=12,MONTH(1),MONTH(C30)+1)&"/"&IF(MONTH(C30)=12,YEAR(C30)+1,YEAR(C30)) -> 1/2028 | D31: =IF($D$16=0,"-",D30*$F$8+D30) -> 2419.6551 | F31: =IF(MONTH(F30)=12,MONTH(1),MONTH(F30)+1)&"/"&IF(MONTH(F30)=12,YEAR(F30)+1,YEAR(F30)) -> 4/2026 | G31: =IF($G$16=0,"-",G30*$F$7+G30) -> 30765.732 | K31: =IFERROR(((I31/G31)/I31)*(I31-G31),0) -> 0 | L31: =I31-G31 -> -30765.732 | N31: =N30-I31 -> 10000 | Q31: Meu risco por dia é de | T31: Minha meta por dia é de
C32: =IF(MONTH(C31)=12,MONTH(1),MONTH(C31)+1)&"/"&IF(MONTH(C31)=12,YEAR(C31)+1,YEAR(C31)) -> 2/2028 | D32: =IF($D$16=0,"-",D31*$F$8+D31) -> 2286.1442 | F32: =IF(MONTH(F31)=12,MONTH(1),MONTH(F31)+1)&"/"&IF(MONTH(F31)=12,YEAR(F31)+1,YEAR(F31)) -> 5/2026 | G32: =IF($G$16=0,"-",G31*$F$7+G31) -> 34075.089 | K32: =IFERROR(((I32/G32)/I32)*(I32-G32),0) -> 0 | L32: =I32-G32 -> -34075.089 | N32: =N31-I32 -> 10000 | Q32: =Q22 -> 0.1 | T32: =Q22 -> 0.1
C33: =IF(MONTH(C32)=12,MONTH(1),MONTH(C32)+1)&"/"&IF(MONTH(C32)=12,YEAR(C32)+1,YEAR(C32)) -> 3/2028 | D33: =IF($D$16=0,"-",D32*$F$8+D32) -> 2160 | F33: =IF(MONTH(F32)=12,MONTH(1),MONTH(F32)+1)&"/"&IF(MONTH(F32)=12,YEAR(F32)+1,YEAR(F32)) -> 6/2026 | G33: =IF($G$16=0,"-",G32*$F$7+G32) -> 37740.422 | K33: =IFERROR(((I33/G33)/I33)*(I33-G33),0) -> 0 | L33: =I33-G33 -> -37740.422 | N33: =N32-I33 -> 10000 | Q33: sobre meu capital inicial do dia, que equivale a | T33: sobre meu capital inicial do dia, que equivale a
C34: =IF(MONTH(C33)=12,MONTH(1),MONTH(C33)+1)&"/"&IF(MONTH(C33)=12,YEAR(C33)+1,YEAR(C33)) -> 4/2028 | D34: =IF($D$16=0,"-",D33*$F$8+D33) -> 2040.8162 | F34: =IF(MONTH(F33)=12,MONTH(1),MONTH(F33)+1)&"/"&IF(MONTH(F33)=12,YEAR(F33)+1,YEAR(F33)) -> 7/2026 | G34: =IF($G$16=0,"-",G33*$F$7+G33) -> 41800.021 | K34: =IFERROR(((I34/G34)/I34)*(I34-G34),0) -> 0 | L34: =I34-G34 -> -41800.021 | N34: =N33-I34 -> 10000 | Q34: =Q32*-Q18 -> -100 | T34: =T32*Q18 -> 100
C35: =IF(MONTH(C34)=12,MONTH(1),MONTH(C34)+1)&"/"&IF(MONTH(C34)=12,YEAR(C34)+1,YEAR(C34)) -> 5/2028 | D35: =IF($D$16=0,"-",D34*$F$8+D34) -> 1928.2087 | F35: =IF(MONTH(F34)=12,MONTH(1),MONTH(F34)+1)&"/"&IF(MONTH(F34)=12,YEAR(F34)+1,YEAR(F34)) -> 8/2026 | G35: =IF($G$16=0,"-",G34*$F$7+G34) -> 46296.296 | K35: =IFERROR(((I35/G35)/I35)*(I35-G35),0) -> 0 | L35: =I35-G35 -> -46296.296 | N35: =N34-I35 -> 10000 | Q35: o mesmo que | T35: sendo necessário
C36: =IF(MONTH(C35)=12,MONTH(1),MONTH(C35)+1)&"/"&IF(MONTH(C35)=12,YEAR(C35)+1,YEAR(C35)) -> 6/2028 | D36: =IF($D$16=0,"-",D35*$F$8+D35) -> 1821.8146 | F36: =IF(MONTH(F35)=12,MONTH(1),MONTH(F35)+1)&"/"&IF(MONTH(F35)=12,YEAR(F35)+1,YEAR(F35)) -> 9/2026 | G36: =IF($G$16=0,"-",G35*$F$7+G35) -> 51276.22 | K36: =IFERROR(((I36/G36)/I36)*(I36-G36),0) -> 0 | L36: =I36-G36 -> -51276.22 | N36: =N35-I36 -> 10000 | Q36: =ROUNDUP(Q34/(-Q13*R40),0) -> 2 | T36: =ROUNDUP(T34/(T13*U40),0) -> 3
C37: =IF(MONTH(C36)=12,MONTH(1),MONTH(C36)+1)&"/"&IF(MONTH(C36)=12,YEAR(C36)+1,YEAR(C36)) -> 7/2028 | D37: =IF($D$16=0,"-",D36*$F$8+D36) -> 1721.291 | F37: =IF(MONTH(F36)=12,MONTH(1),MONTH(F36)+1)&"/"&IF(MONTH(F36)=12,YEAR(F36)+1,YEAR(F36)) -> 10/2026 | G37: =IF($G$16=0,"-",G36*$F$7+G36) -> 56791.815 | K37: =IFERROR(((I37/G37)/I37)*(I37-G37),0) -> 0 | L37: =I37-G37 -> -56791.815 | N37: =N36-I37 -> 10000 | Q37: operações perdedoras para atingir esse resultado, o equivalente a | T37: operações vencedoras e nenhuma perdedora para alcançar essa meta, o equivalente a
C38: =IF(MONTH(C37)=12,MONTH(1),MONTH(C37)+1)&"/"&IF(MONTH(C37)=12,YEAR(C37)+1,YEAR(C37)) -> 8/2028 | D38: =IF($D$16=0,"-",D37*$F$8+D37) -> 1626.3142 | F38: =IF(MONTH(F37)=12,MONTH(1),MONTH(F37)+1)&"/"&IF(MONTH(F37)=12,YEAR(F37)+1,YEAR(F37)) -> 11/2026 | G38: =IF($G$16=0,"-",G37*$F$7+G37) -> 62900.703 | K38: =IFERROR(((I38/G38)/I38)*(I38-G38),0) -> 0 | L38: =I38-G38 -> -62900.703 | N38: =N37-I38 -> 10000
C39: =IF(MONTH(C38)=12,MONTH(1),MONTH(C38)+1)&"/"&IF(MONTH(C38)=12,YEAR(C38)+1,YEAR(C38)) -> 9/2028 | D39: =IF($D$16=0,"-",D38*$F$8+D38) -> 1536.5779 | F39: =IF(MONTH(F38)=12,MONTH(1),MONTH(F38)+1)&"/"&IF(MONTH(F38)=12,YEAR(F38)+1,YEAR(F38)) -> 12/2026 | G39: =IF($G$16=0,"-",G38*$F$7+G38) -> 69666.702 | K39: =IFERROR(((I39/G39)/I39)*(I39-G39),0) -> 0 | L39: =I39-G39 -> -69666.702 | N39: =N38-I39 -> 10000 | Q39: =Q36*Q12 -> 4 | T39: =T36*T12 -> 6
C40: =IF(MONTH(C39)=12,MONTH(1),MONTH(C39)+1)&"/"&IF(MONTH(C39)=12,YEAR(C39)+1,YEAR(C39)) -> 10/2028 | D40: =IF($D$16=0,"-",D39*$F$8+D39) -> 1451.7931 | F40: =IF(MONTH(F39)=12,MONTH(1),MONTH(F39)+1)&"/"&IF(MONTH(F39)=12,YEAR(F39)+1,YEAR(F39)) -> 1/2027 | G40: =IF($G$16=0,"-",G39*$F$7+G39) -> 77160.494 | K40: =IFERROR(((I40/G40)/I40)*(I40-G40),0) -> 0 | L40: =I40-G40 -> -77160.494 | N40: =N39-I40 -> 10000 | Q40: pts operando | R40: 3 | S40: contratos. | T40: pts operando | U40: =ROUNDUP(Q45/2,0) -> 2 | V40: contratos.
C41: =IF(MONTH(C40)=12,MONTH(1),MONTH(C40)+1)&"/"&IF(MONTH(C40)=12,YEAR(C40)+1,YEAR(C40)) -> 11/2028 | D41: =IF($D$16=0,"-",D40*$F$8+D40) -> 1371.6865 | F41: =IF(MONTH(F40)=12,MONTH(1),MONTH(F40)+1)&"/"&IF(MONTH(F40)=12,YEAR(F40)+1,YEAR(F40)) -> 2/2027 | G41: =IF($G$16=0,"-",G40*$F$7+G40) -> 85460.366 | K41: =IFERROR(((I41/G41)/I41)*(I41-G41),0) -> 0 | L41: =I41-G41 -> -85460.366 | N41: =N40-I41 -> 10000
C42: =IF(MONTH(C41)=12,MONTH(1),MONTH(C41)+1)&"/"&IF(MONTH(C41)=12,YEAR(C41)+1,YEAR(C41)) -> 12/2028 | D42: =IF($D$16=0,"-",D41*$F$8+D41) -> 1296 | F42: =IF(MONTH(F41)=12,MONTH(1),MONTH(F41)+1)&"/"&IF(MONTH(F41)=12,YEAR(F41)+1,YEAR(F41)) -> 3/2027 | G42: =IF($G$16=0,"-",G41*$F$7+G41) -> 94653.025 | K42: =IFERROR(((I42/G42)/I42)*(I42-G42),0) -> 0 | L42: =I42-G42 -> -94653.025 | N42: =N41-I42 -> 10000
C43: =IF(MONTH(C42)=12,MONTH(1),MONTH(C42)+1)&"/"&IF(MONTH(C42)=12,YEAR(C42)+1,YEAR(C42)) -> 1/2029 | D43: =IF($D$16=0,"-",D42*$F$8+D42) -> 1224.4897 | F43: =IF(MONTH(F42)=12,MONTH(1),MONTH(F42)+1)&"/"&IF(MONTH(F42)=12,YEAR(F42)+1,YEAR(F42)) -> 4/2027 | G43: =IF($G$16=0,"-",G42*$F$7+G42) -> 104834.5 | K43: =IFERROR(((I43/G43)/I43)*(I43-G43),0) -> 0 | L43: =I43-G43 -> -104834.5 | N43: =N42-I43 -> 10000 | Q43: Conforme a margem de garantia da corretora tenho até | U43: =Q18/S8 -> 40 | V43: contratos
C44: =IF(MONTH(C43)=12,MONTH(1),MONTH(C43)+1)&"/"&IF(MONTH(C43)=12,YEAR(C43)+1,YEAR(C43)) -> 2/2029 | D44: =IF($D$16=0,"-",D43*$F$8+D43) -> 1156.9252 | F44: =IF(MONTH(F43)=12,MONTH(1),MONTH(F43)+1)&"/"&IF(MONTH(F43)=12,YEAR(F43)+1,YEAR(F43)) -> 5/2027 | G44: =IF($G$16=0,"-",G43*$F$7+G43) -> 116111.17 | K44: =IFERROR(((I44/G44)/I44)*(I44-G44),0) -> 0 | L44: =I44-G44 -> -116111.17 | N44: =N43-I44 -> 10000 | Q44: para operar, porém conforme meu plano de trader o Nº de contratos permitidos por operação é
C45: =IF(MONTH(C44)=12,MONTH(1),MONTH(C44)+1)&"/"&IF(MONTH(C44)=12,YEAR(C44)+1,YEAR(C44)) -> 3/2029 | D45: =IF($D$16=0,"-",D44*$F$8+D44) -> 1093.0887 | F45: =IF(MONTH(F44)=12,MONTH(1),MONTH(F44)+1)&"/"&IF(MONTH(F44)=12,YEAR(F44)+1,YEAR(F44)) -> 6/2027 | G45: =IF($G$16=0,"-",G44*$F$7+G44) -> 128600.82 | K45: =IFERROR(((I45/G45)/I45)*(I45-G45),0) -> 0 | L45: =I45-G45 -> -128600.82 | N45: =N44-I45 -> 10000 | Q45: =ROUNDUP(Q20/((Q12*Q8)/Q18),0) -> 3
...

Sheet Resultados
E4: MENU DE NAVEGAÇÃO | BM4: JANEIRO | BO4: JULHO | BW4: JANEIRO | BY4: JULHO | CI4: JANEIRO | CL4: JULHO | CX4: JANEIRO | DA4: JULHO | DM4: JANEIRO | DP4: JULHO | EB4: JANEIRO | EE4: JULHO | EQ4: JANEIRO | ET4: JULHO
BM5: FEVEREIRO | BO5: AGOSTO | BW5: FEVEREIRO | BY5: AGOSTO | CI5: FEVEREIRO | CL5: AGOSTO | CX5: FEVEREIRO | DA5: AGOSTO | DM5: FEVEREIRO | DP5: AGOSTO | EB5: FEVEREIRO | EE5: AGOSTO | EQ5: FEVEREIRO | ET5: AGOSTO
C6: 2026 | BM6: MARÇO | BO6: SETEMBRO | BW6: MARÇO | BY6: SETEMBRO | CI6: MARÇO | CL6: SETEMBRO | CX6: MARÇO | DA6: SETEMBRO | DM6: MARÇO | DP6: SETEMBRO | EB6: MARÇO | EE6: SETEMBRO | EQ6: MARÇO | ET6: SETEMBRO
G7: JANEIRO | J7: JULHO | BM7: ABRIL | BO7: OUTUBRO | BW7: ABRIL | BY7: OUTUBRO | CI7: ABRIL | CL7: OUTUBRO | CX7: ABRIL | DA7: OUTUBRO | DM7: ABRIL | DP7: OUTUBRO | EB7: ABRIL | EE7: OUTUBRO | EQ7: ABRIL | ET7: OUTUBRO
G8: FEVEREIRO | J8: AGOSTO | BM8: MAIO | BO8: NOVEMBRO | BW8: MAIO | BY8: NOVEMBRO | CI8: MAIO | CL8: NOVEMBRO | CX8: MAIO | DA8: NOVEMBRO | DM8: MAIO | DP8: NOVEMBRO | EB8: MAIO | EE8: NOVEMBRO | EQ8: MAIO | ET8: NOVEMBRO
G9: MARÇO | J9: SETEMBRO | BM9: JUNHO | BO9: DEZEMBRO | BW9: JUNHO | BY9: DEZEMBRO | CI9: JUNHO | CL9: DEZEMBRO | CX9: JUNHO | DA9: DEZEMBRO | DM9: JUNHO | DP9: DEZEMBRO | EB9: JUNHO | EE9: DEZEMBRO | EQ9: JUNHO | ET9: DEZEMBRO
G10: ABRIL | J10: OUTUBRO
G11: MAIO | J11: NOVEMBRO | N11: DIA | P11: WDO | AC11: WIN | AP11: GERAL | AZ11: CUSTOS NÃO OPERACIONAIS | BH11: SAQUES E APORTES | BJ11: ÍNDICE DE ASSERTIVIDADES NOS ATIVOS | BT11: ÍNDICE DE ASSERTIVIDADES NOS TIPOS DE OPERAÇÕES POR ATIVO | CD11: QUANTIDADE DE OPERAÇÕES POR ATIVO | CS11: SALDO LÍQUIDO POR ATIVO | DH11: SALDO LÍQUIDO ACUMULADO POR ATIVO | DW11: SALDO LÍQUIDO FINAL NA NOTA DE CORRETAGEM DA SOMA DE TODOS OS ATIVOS | EL11: SALDO LÍQUIDO FINAL ACUMULADO NA NOTA DE CORRETAGEM DA SOMA DE TODOS OS ATIVOS
G12: JUNHO | J12: DEZEMBRO
P13: SALDO BRUTO | Q13: Nº GAIN | R13: Nº LOSS | S13: Nº ZER. | T13: TOTAL OPER. | U13: % GAIN | V13: Nº DE CONTR. | W13: CORRET. | X13: REGIST. | Y13: EMOLUM. | Z13: CUSTOS TOTAIS | AA13: SALDO LÍQUIDO | AB13: SALDO LÍQUIDO ACUMULADO | AC13: SALDO BRUTO | AD13: Nº GAIN | AE13: Nº LOSS | AF13: Nº ZER. | AG13: TOTAL OPER. | AH13: % GAIN | AI13: Nº DE CONTR. | AJ13: CORRET. | AK13: REGIST. | AL13: EMOLUM. | AM13: CUSTOS TOTAIS | AN13: SALDO LÍQUIDO | AO13: SALDO LÍQUIDO ACUMULADO | AP13: OUTROS CUSTOS | AQ13: CUSTOS TOTAIS | AR13: SALDO BRUTO TOTAL | AS13: SALDO LIQU. TOTAL | AT13: ISS | AU13: CUSTOS TOTAIS FINAL | AV13: SALDO LIQU. FINAL | AW13: IRRF | AX13: SALDO NOTA DE CORR. | AY13: SALDO NOTA DE CORR. ACUMULADO | AZ13: DESCRIÇÃO | BE13: VALOR | BH13: SAQUES | BI13: APORTES
C15: JANEIRO | O15: 44197 | T15: =Q15+S15+R15 -> 0 | U15: =IF(T15=0,"",IF(T15=0,0,Q15/T15)) | W15: =V15*-$J$32*2 -> 0 | X15: =ROUNDDOWN(V15*-$J$33,3)*2 -> 0 | Y15: =V15*-$J$34*2 -> 0 | Z15: =SUM(W15:Y15) -> 0 | AA15: =P15+Z15 -> 0 | AB15: =Q15+AA15 -> 0 | AG15: =AD15+AF15+AE15 -> 0 | AH15: =IF(AG15=0,"",IF(AG15=0,0,AD15/AG15)) | AJ15: =AI15*-$L$32*2 -> 0 | AK15: =AI15*-$L$33*2 -> 0 | AL15: =AI15*-$L$34*2 -> 0 | AM15: =SUM(AJ15:AL15) -> 0 | AN15: =AC15+AM15 -> 0 | AO15: =AD15+AN15 -> 0 | AQ15: =Z15+AM15 -> 0 | AR15: =P15+AC15+AP15 -> 0 | AS15: =AR15+AQ15 -> 0 | AU15: =AQ15+AT15 -> 0 | AV15: =AR15+AU15 -> 0 | AW15: =IF(AV15<=0,0,AV15*-$J$36) -> 0 | AX15: =ROUNDUP(AV15+AW15,2) -> 0 | AY15: =AX15 -> 0 | EM15: ='DARF e Declaração de IR'!$AJ$13 -> 0
F16: RESUMO | O16: 44198 | T16: =Q16+S16+R16 -> 0 | U16: =IF(T16=0,"",IF(T16=0,0,Q16/T16)) | W16: =V16*-$J$32*2 -> 0 | X16: =ROUNDDOWN(V16*-$J$33,3)*2 -> 0 | Y16: =V16*-$J$34*2 -> 0 | Z16: =SUM(W16:Y16) -> 0 | AA16: =P16+Z16 -> 0 | AB16: =Q16+AA16 -> 0 | AG16: =AD16+AF16+AE16 -> 0 | AH16: =IF(AG16=0,"",IF(AG16=0,0,AD16/AG16)) | AJ16: =AI16*-$L$32*2 -> 0 | AK16: =AI16*-$L$33*2 -> 0 | AL16: =AI16*-$L$34*2 -> 0 | AM16: =SUM(AJ16:AL16) -> 0 | AN16: =AC16+AM16 -> 0 | AO16: =AD16+AN16 -> 0 | AQ16: =Z16+AM16 -> 0 | AR16: =P16+AC16+AP16 -> 0 | AS16: =AR16+AQ16 -> 0 | AU16: =AQ16+AT16 -> 0 | AV16: =AR16+AU16 -> 0 | AW16: =IF(AV16<=0,0,AV16*-$J$36) -> 0 | AX16: =ROUNDUP(AV16+AW16,2) -> 0 | AY16: =AY15+AX16 -> 0 | EM16: ='DARF e Declaração de IR'!$AJ$13 -> 0
O17: 44199 | T17: =Q17+S17+R17 -> 0 | U17: =IF(T17=0,"",IF(T17=0,0,Q17/T17)) | W17: =V17*-$J$32*2 -> 0 | X17: =ROUNDDOWN(V17*-$J$33,3)*2 -> 0 | Y17: =V17*-$J$34*2 -> 0 | Z17: =SUM(W17:Y17) -> 0 | AA17: =P17+Z17 -> 0 | AB17: =Q17+AA17 -> 0 | AG17: =AD17+AF17+AE17 -> 0 | AH17: =IF(AG17=0,"",IF(AG17=0,0,AD17/AG17)) | AJ17: =AI17*-$L$32*2 -> 0 | AK17: =AI17*-$L$33*2 -> 0 | AL17: =AI17*-$L$34*2 -> 0 | AM17: =SUM(AJ17:AL17) -> 0 | AN17: =AC17+AM17 -> 0 | AO17: =AD17+AN17 -> 0 | AQ17: =Z17+AM17 -> 0 | AR17: =P17+AC17+AP17 -> 0 | AS17: =AR17+AQ17 -> 0 | AU17: =AQ17+AT17 -> 0 | AV17: =AR17+AU17 -> 0 | AW17: =IF(AV17<=0,0,AV17*-$J$36) -> 0 | AX17: =ROUNDUP(AV17+AW17,2) -> 0 | AY17: =AY16+AX17 -> 0 | EM17: ='DARF e Declaração de IR'!$AJ$13 -> 0
F18: CAPITAL INICIAL | K18: 6000 | O18: 44200 | T18: =Q18+S18+R18 -> 0 | U18: =IF(T18=0,"",IF(T18=0,0,Q18/T18)) | W18: =V18*-$J$32*2 -> 0 | X18: =ROUNDDOWN(V18*-$J$33,3)*2 -> 0 | Y18: =V18*-$J$34*2 -> 0 | Z18: =SUM(W18:Y18) -> 0 | AA18: =P18+Z18 -> 0 | AB18: =Q18+AA18 -> 0 | AG18: =AD18+AF18+AE18 -> 0 | AH18: =IF(AG18=0,"",IF(AG18=0,0,AD18/AG18)) | AJ18: =AI18*-$L$32*2 -> 0 | AK18: =AI18*-$L$33*2 -> 0 | AL18: =AI18*-$L$34*2 -> 0 | AM18: =SUM(AJ18:AL18) -> 0 | AN18: =AC18+AM18 -> 0 | AO18: =AD18+AN18 -> 0 | AQ18: =Z18+AM18 -> 0 | AR18: =P18+AC18+AP18 -> 0 | AS18: =AR18+AQ18 -> 0 | AU18: =AQ18+AT18 -> 0 | AV18: =AR18+AU18 -> 0 | AW18: =IF(AV18<=0,0,AV18*-$J$36) -> 0 | AX18: =ROUNDUP(AV18+AW18,2) -> 0 | AY18: =AY17+AX18 -> 0 | EM18: ='DARF e Declaração de IR'!$AJ$13 -> 0
F19: PATRIMÔNIO ACUMULADO | K19: =K18+K20 -> 6000 | O19: 44201 | T19: =Q19+S19+R19 -> 0 | U19: =IF(T19=0,"",IF(T19=0,0,Q19/T19)) | W19: =V19*-$J$32*2 -> 0 | X19: =ROUNDDOWN(V19*-$J$33,3)*2 -> 0 | Y19: =V19*-$J$34*2 -> 0 | Z19: =SUM(W19:Y19) -> 0 | AA19: =P19+Z19 -> 0 | AB19: =Q19+AA19 -> 0 | AG19: =AD19+AF19+AE19 -> 0 | AH19: =IF(AG19=0,"",IF(AG19=0,0,AD19/AG19)) | AJ19: =AI19*-$L$32*2 -> 0 | AK19: =AI19*-$L$33*2 -> 0 | AL19: =AI19*-$L$34*2 -> 0 | AM19: =SUM(AJ19:AL19) -> 0 | AN19: =AC19+AM19 -> 0 | AO19: =AD19+AN19 -> 0 | AQ19: =Z19+AM19 -> 0 | AR19: =P19+AC19+AP19 -> 0 | AS19: =AR19+AQ19 -> 0 | AU19: =AQ19+AT19 -> 0 | AV19: =AR19+AU19 -> 0 | AW19: =IF(AV19<=0,0,AV19*-$J$36) -> 0 | AX19: =ROUNDUP(AV19+AW19,2) -> 0 | AY19: =AY18+AX19 -> 0 | EM19: ='DARF e Declaração de IR'!$AJ$13 -> 0
F20: SALDO LÍQUIDO | K20: =AX46+BE46+BH46+BI46 -> 0 | O20: 44202 | T20: =Q20+S20+R20 -> 0 | U20: =IF(T20=0,"",IF(T20=0,0,Q20/T20)) | W20: =V20*-$J$32*2 -> 0 | X20: =ROUNDDOWN(V20*-$J$33,3)*2 -> 0 | Y20: =V20*-$J$34*2 -> 0 | Z20: =SUM(W20:Y20) -> 0 | AA20: =P20+Z20 -> 0 | AB20: =Q20+AA20 -> 0 | AG20: =AD20+AF20+AE20 -> 0 | AH20: =IF(AG20=0,"",IF(AG20=0,0,AD20/AG20)) | AJ20: =AI20*-$L$32*2 -> 0 | AK20: =AI20*-$L$33*2 -> 0 | AL20: =AI20*-$L$34*2 -> 0 | AM20: =SUM(AJ20:AL20) -> 0 | AN20: =AC20+AM20 -> 0 | AO20: =AD20+AN20 -> 0 | AQ20: =Z20+AM20 -> 0 | AR20: =P20+AC20+AP20 -> 0 | AS20: =AR20+AQ20 -> 0 | AU20: =AQ20+AT20 -> 0 | AV20: =AR20+AU20 -> 0 | AW20: =IF(AV20<=0,0,AV20*-$J$36) -> 0 | AX20: =ROUNDUP(AV20+AW20,2) -> 0 | AY20: =AY19+AX20 -> 0 | EM20: ='DARF e Declaração de IR'!$AJ$13 -> 0
F21: SAQUES TOTAIS | K21: =BH46 -> 0 | O21: 44203 | T21: =Q21+S21+R21 -> 0 | U21: =IF(T21=0,"",IF(T21=0,0,Q21/T21)) | W21: =V21*-$J$32*2 -> 0 | X21: =ROUNDDOWN(V21*-$J$33,3)*2 -> 0 | Y21: =V21*-$J$34*2 -> 0 | Z21: =SUM(W21:Y21) -> 0 | AA21: =P21+Z21 -> 0 | AB21: =Q21+AA21 -> 0 | AG21: =AD21+AF21+AE21 -> 0 | AH21: =IF(AG21=0,"",IF(AG21=0,0,AD21/AG21)) | AJ21: =AI21*-$L$32*2 -> 0 | AK21: =AI21*-$L$33*2 -> 0 | AL21: =AI21*-$L$34*2 -> 0 | AM21: =SUM(AJ21:AL21) -> 0 | AN21: =AC21+AM21 -> 0 | AO21: =AD21+AN21 -> 0 | AQ21: =Z21+AM21 -> 0 | AR21: =P21+AC21+AP21 -> 0 | AS21: =AR21+AQ21 -> 0 | AU21: =AQ21+AT21 -> 0 | AV21: =AR21+AU21 -> 0 | AW21: =IF(AV21<=0,0,AV21*-$J$36) -> 0 | AX21: =ROUNDUP(AV21+AW21,2) -> 0 | AY21: =AY20+AX21 -> 0 | EM21: ='DARF e Declaração de IR'!$AJ$13 -> 0
F22: APORTES TOTAIS | K22: =BI46 -> 0 | O22: 44204 | T22: =Q22+S22+R22 -> 0 | U22: =IF(T22=0,"",IF(T22=0,0,Q22/T22)) | W22: =V22*-$J$32*2 -> 0 | X22: =ROUNDDOWN(V22*-$J$33,3)*2 -> 0 | Y22: =V22*-$J$34*2 -> 0 | Z22: =SUM(W22:Y22) -> 0 | AA22: =P22+Z22 -> 0 | AB22: =Q22+AA22 -> 0 | AG22: =AD22+AF22+AE22 -> 0 | AH22: =IF(AG22=0,"",IF(AG22=0,0,AD22/AG22)) | AJ22: =AI22*-$L$32*2 -> 0 | AK22: =AI22*-$L$33*2 -> 0 | AL22: =AI22*-$L$34*2 -> 0 | AM22: =SUM(AJ22:AL22) -> 0 | AN22: =AC22+AM22 -> 0 | AO22: =AD22+AN22 -> 0 | AQ22: =Z22+AM22 -> 0 | AR22: =P22+AC22+AP22 -> 0 | AS22: =AR22+AQ22 -> 0 | AU22: =AQ22+AT22 -> 0 | AV22: =AR22+AU22 -> 0 | AW22: =IF(AV22<=0,0,AV22*-$J$36) -> 0 | AX22: =ROUNDUP(AV22+AW22,2) -> 0 | AY22: =AY21+AX22 -> 0 | EM22: ='DARF e Declaração de IR'!$AJ$13 -> 0
F23: BASE DE CÁLCULO IR | K23: =AS46 -> 0 | O23: 44205 | T23: =Q23+S23+R23 -> 0 | U23: =IF(T23=0,"",IF(T23=0,0,Q23/T23)) | W23: =V23*-$J$32*2 -> 0 | X23: =ROUNDDOWN(V23*-$J$33,3)*2 -> 0 | Y23: =V23*-$J$34*2 -> 0 | Z23: =SUM(W23:Y23) -> 0 | AA23: =P23+Z23 -> 0 | AB23: =Q23+AA23 -> 0 | AG23: =AD23+AF23+AE23 -> 0 | AH23: =IF(AG23=0,"",IF(AG23=0,0,AD23/AG23)) | AJ23: =AI23*-$L$32*2 -> 0 | AK23: =AI23*-$L$33*2 -> 0 | AL23: =AI23*-$L$34*2 -> 0 | AM23: =SUM(AJ23:AL23) -> 0 | AN23: =AC23+AM23 -> 0 | AO23: =AD23+AN23 -> 0 | AQ23: =Z23+AM23 -> 0 | AR23: =P23+AC23+AP23 -> 0 | AS23: =AR23+AQ23 -> 0 | AU23: =AQ23+AT23 -> 0 | AV23: =AR23+AU23 -> 0 | AW23: =IF(AV23<=0,0,AV23*-$J$36) -> 0 | AX23: =ROUNDUP(AV23+AW23,2) -> 0 | AY23: =AY22+AX23 -> 0 | EM23: ='DARF e Declaração de IR'!$AJ$13 -> 0
F24: IRRF | K24: =AW46 -> 0 | O24: 44206 | T24: =Q24+S24+R24 -> 0 | U24: =IF(T24=0,"",IF(T24=0,0,Q24/T24)) | W24: =V24*-$J$32*2 -> 0 | X24: =ROUNDDOWN(V24*-$J$33,3)*2 -> 0 | Y24: =V24*-$J$34*2 -> 0 | Z24: =SUM(W24:Y24) -> 0 | AA24: =P24+Z24 -> 0 | AB24: =Q24+AA24 -> 0 | AG24: =AD24+AF24+AE24 -> 0 | AH24: =IF(AG24=0,"",IF(AG24=0,0,AD24/AG24)) | AJ24: =AI24*-$L$32*2 -> 0 | AK24: =AI24*-$L$33*2 -> 0 | AL24: =AI24*-$L$34*2 -> 0 | AM24: =SUM(AJ24:AL24) -> 0 | AN24: =AC24+AM24 -> 0 | AO24: =AD24+AN24 -> 0 | AQ24: =Z24+AM24 -> 0 | AR24: =P24+AC24+AP24 -> 0 | AS24: =AR24+AQ24 -> 0 | AU24: =AQ24+AT24 -> 0 | AV24: =AR24+AU24 -> 0 | AW24: =IF(AV24<=0,0,AV24*-$J$36) -> 0 | AX24: =ROUNDUP(AV24+AW24,2) -> 0 | AY24: =AY23+AX24 -> 0 | EM24: ='DARF e Declaração de IR'!$AJ$13 -> 0
F25: IRRF À COMPENSAR | K25: =IF(K29=0,K24,0) -> 0 | O25: 44207 | T25: =Q25+S25+R25 -> 0 | U25: =IF(T25=0,"",IF(T25=0,0,Q25/T25)) | W25: =V25*-$J$32*2 -> 0 | X25: =ROUNDDOWN(V25*-$J$33,3)*2 -> 0 | Y25: =V25*-$J$34*2 -> 0 | Z25: =SUM(W25:Y25) -> 0 | AA25: =P25+Z25 -> 0 | AB25: =Q25+AA25 -> 0 | AG25: =AD25+AF25+AE25 -> 0 | AH25: =IF(AG25=0,"",IF(AG25=0,0,AD25/AG25)) | AJ25: =AI25*-$L$32*2 -> 0 | AK25: =AI25*-$L$33*2 -> 0 | AL25: =AI25*-$L$34*2 -> 0 | AM25: =SUM(AJ25:AL25) -> 0 | AN25: =AC25+AM25 -> 0 | AO25: =AD25+AN25 -> 0 | AQ25: =Z25+AM25 -> 0 | AR25: =P25+AC25+AP25 -> 0 | AS25: =AR25+AQ25 -> 0 | AU25: =AQ25+AT25 -> 0 | AV25: =AR25+AU25 -> 0 | AW25: =IF(AV25<=0,0,AV25*-$J$36) -> 0 | AX25: =ROUNDUP(AV25+AW25,2) -> 0 | AY25: =AY24+AX25 -> 0 | EM25: ='DARF e Declaração de IR'!$AJ$13 -> 0
F26: COMPENSAÇÃO DARF MÊS ANTERIOR | K26: ='DARF e Declaração de IR'!C6 -> 0 | O26: 44208 | T26: =Q26+S26+R26 -> 0 | U26: =IF(T26=0,"",IF(T26=0,0,Q26/T26)) | W26: =V26*-$J$32*2 -> 0 | X26: =ROUNDDOWN(V26*-$J$33,3)*2 -> 0 | Y26: =V26*-$J$34*2 -> 0 | Z26: =SUM(W26:Y26) -> 0 | AA26: =P26+Z26 -> 0 | AB26: =Q26+AA26 -> 0 | AG26: =AD26+AF26+AE26 -> 0 | AH26: =IF(AG26=0,"",IF(AG26=0,0,AD26/AG26)) | AJ26: =AI26*-$L$32*2 -> 0 | AK26: =AI26*-$L$33*2 -> 0 | AL26: =AI26*-$L$34*2 -> 0 | AM26: =SUM(AJ26:AL26) -> 0 | AN26: =AC26+AM26 -> 0 | AO26: =AD26+AN26 -> 0 | AQ26: =Z26+AM26 -> 0 | AR26: =P26+AC26+AP26 -> 0 | AS26: =AR26+AQ26 -> 0 | AU26: =AQ26+AT26 -> 0 | AV26: =AR26+AU26 -> 0 | AW26: =IF(AV26<=0,0,AV26*-$J$36) -> 0 | AX26: =ROUNDUP(AV26+AW26,2) -> 0 | AY26: =AY25+AX26 -> 0 | EM26: ='DARF e Declaração de IR'!$AJ$13 -> 0
F27: DARF | K27: =AS46*$J$37+AW46 -> 0 | O27: 44209 | T27: =Q27+S27+R27 -> 0 | U27: =IF(T27=0,"",IF(T27=0,0,Q27/T27)) | W27: =V27*-$J$32*2 -> 0 | X27: =ROUNDDOWN(V27*-$J$33,3)*2 -> 0 | Y27: =V27*-$J$34*2 -> 0 | Z27: =SUM(W27:Y27) -> 0 | AA27: =P27+Z27 -> 0 | AB27: =Q27+AA27 -> 0 | AG27: =AD27+AF27+AE27 -> 0 | AH27: =IF(AG27=0,"",IF(AG27=0,0,AD27/AG27)) | AJ27: =AI27*-$L$32*2 -> 0 | AK27: =AI27*-$L$33*2 -> 0 | AL27: =AI27*-$L$34*2 -> 0 | AM27: =SUM(AJ27:AL27) -> 0 | AN27: =AC27+AM27 -> 0 | AO27: =AD27+AN27 -> 0 | AQ27: =Z27+AM27 -> 0 | AR27: =P27+AC27+AP27 -> 0 | AS27: =AR27+AQ27 -> 0 | AU27: =AQ27+AT27 -> 0 | AV27: =AR27+AU27 -> 0 | AW27: =IF(AV27<=0,0,AV27*-$J$36) -> 0 | AX27: =ROUNDUP(AV27+AW27,2) -> 0 | AY27: =AY26+AX27 -> 0 | EM27: ='DARF e Declaração de IR'!$AJ$13 -> 0
F28: DARF À PAGAR | K28: ='DARF e Declaração de IR'!$Q$13 -> 0 | O28: 44210 | T28: =Q28+S28+R28 -> 0 | U28: =IF(T28=0,"",IF(T28=0,0,Q28/T28)) | W28: =V28*-$J$32*2 -> 0 | X28: =ROUNDDOWN(V28*-$J$33,3)*2 -> 0 | Y28: =V28*-$J$34*2 -> 0 | Z28: =SUM(W28:Y28) -> 0 | AA28: =P28+Z28 -> 0 | AB28: =Q28+AA28 -> 0 | AG28: =AD28+AF28+AE28 -> 0 | AH28: =IF(AG28=0,"",IF(AG28=0,0,AD28/AG28)) | AJ28: =AI28*-$L$32*2 -> 0 | AK28: =AI28*-$L$33*2 -> 0 | AL28: =AI28*-$L$34*2 -> 0 | AM28: =SUM(AJ28:AL28) -> 0 | AN28: =AC28+AM28 -> 0 | AO28: =AD28+AN28 -> 0 | AQ28: =Z28+AM28 -> 0 | AR28: =P28+AC28+AP28 -> 0 | AS28: =AR28+AQ28 -> 0 | AU28: =AQ28+AT28 -> 0 | AV28: =AR28+AU28 -> 0 | AW28: =IF(AV28<=0,0,AV28*-$J$36) -> 0 | AX28: =ROUNDUP(AV28+AW28,2) -> 0 | AY28: =AY27+AX28 -> 0 | EM28: ='DARF e Declaração de IR'!$AJ$13 -> 0
F29: DARF À COMPENSAR | K29: ='DARF e Declaração de IR'!$P$13 -> 0 | O29: 44211 | T29: =Q29+S29+R29 -> 0 | U29: =IF(T29=0,"",IF(T29=0,0,Q29/T29)) | W29: =V29*-$J$32*2 -> 0 | X29: =ROUNDDOWN(V29*-$J$33,3)*2 -> 0 | Y29: =V29*-$J$34*2 -> 0 | Z29: =SUM(W29:Y29) -> 0 | AA29: =P29+Z29 -> 0 | AB29: =Q29+AA29 -> 0 | AG29: =AD29+AF29+AE29 -> 0 | AH29: =IF(AG29=0,"",IF(AG29=0,0,AD29/AG29)) | AJ29: =AI29*-$L$32*2 -> 0 | AK29: =AI29*-$L$33*2 -> 0 | AL29: =AI29*-$L$34*2 -> 0 | AM29: =SUM(AJ29:AL29) -> 0 | AN29: =AC29+AM29 -> 0 | AO29: =AD29+AN29 -> 0 | AQ29: =Z29+AM29 -> 0 | AR29: =P29+AC29+AP29 -> 0 | AS29: =AR29+AQ29 -> 0 | AU29: =AQ29+AT29 -> 0 | AV29: =AR29+AU29 -> 0 | AW29: =IF(AV29<=0,0,AV29*-$J$36) -> 0 | AX29: =ROUNDUP(AV29+AW29,2) -> 0 | AY29: =AY28+AX29 -> 0 | EM29: ='DARF e Declaração de IR'!$AJ$13 -> 0
F30: TAXAS E IMPOSTOS | O30: 44212 | T30: =Q30+S30+R30 -> 0 | U30: =IF(T30=0,"",IF(T30=0,0,Q30/T30)) | W30: =V30*-$J$32*2 -> 0 | X30: =ROUNDDOWN(V30*-$J$33,3)*2 -> 0 | Y30: =V30*-$J$34*2 -> 0 | Z30: =SUM(W30:Y30) -> 0 | AA30: =P30+Z30 -> 0 | AB30: =Q30+AA30 -> 0 | AG30: =AD30+AF30+AE30 -> 0 | AH30: =IF(AG30=0,"",IF(AG30=0,0,AD30/AG30)) | AJ30: =AI30*-$L$32*2 -> 0 | AK30: =AI30*-$L$33*2 -> 0 | AL30: =AI30*-$L$34*2 -> 0 | AM30: =SUM(AJ30:AL30) -> 0 | AN30: =AC30+AM30 -> 0 | AO30: =AD30+AN30 -> 0 | AQ30: =Z30+AM30 -> 0 | AR30: =P30+AC30+AP30 -> 0 | AS30: =AR30+AQ30 -> 0 | AU30: =AQ30+AT30 -> 0 | AV30: =AR30+AU30 -> 0 | AW30: =IF(AV30<=0,0,AV30*-$J$36) -> 0 | AX30: =ROUNDUP(AV30+AW30,2) -> 0 | AY30: =AY29+AX30 -> 0 | EM30: ='DARF e Declaração de IR'!$AJ$13 -> 0
F31: TAXAS E IMPOSTOS | J31: WDO | L31: WIN | O31: 44213 | T31: =Q31+S31+R31 -> 0 | U31: =IF(T31=0,"",IF(T31=0,0,Q31/T31)) | W31: =V31*-$J$32*2 -> 0 | X31: =ROUNDDOWN(V31*-$J$33,3)*2 -> 0 | Y31: =V31*-$J$34*2 -> 0 | Z31: =SUM(W31:Y31) -> 0 | AA31: =P31+Z31 -> 0 | AB31: =Q31+AA31 -> 0 | AG31: =AD31+AF31+AE31 -> 0 | AH31: =IF(AG31=0,"",IF(AG31=0,0,AD31/AG31)) | AJ31: =AI31*-$L$32*2 -> 0 | AK31: =AI31*-$L$33*2 -> 0 | AL31: =AI31*-$L$34*2 -> 0 | AM31: =SUM(AJ31:AL31) -> 0 | AN31: =AC31+AM31 -> 0 | AO31: =AD31+AN31 -> 0 | AQ31: =Z31+AM31 -> 0 | AR31: =P31+AC31+AP31 -> 0 | AS31: =AR31+AQ31 -> 0 | AU31: =AQ31+AT31 -> 0 | AV31: =AR31+AU31 -> 0 | AW31: =IF(AV31<=0,0,AV31*-$J$36) -> 0 | AX31: =ROUNDUP(AV31+AW31,2) -> 0 | AY31: =AY30+AX31 -> 0 | EM31: ='DARF e Declaração de IR'!$AJ$13 -> 0
F32: CORRETAGEM | J32: 0.05 | L32: 0.05 | O32: 44214 | T32: =Q32+S32+R32 -> 0 | U32: =IF(T32=0,"",IF(T32=0,0,Q32/T32)) | W32: =V32*-$J$32*2 -> 0 | X32: =ROUNDDOWN(V32*-$J$33,3)*2 -> 0 | Y32: =V32*-$J$34*2 -> 0 | Z32: =SUM(W32:Y32) -> 0 | AA32: =P32+Z32 -> 0 | AB32: =Q32+AA32 -> 0 | AG32: =AD32+AF32+AE32 -> 0 | AH32: =IF(AG32=0,"",IF(AG32=0,0,AD32/AG32)) | AJ32: =AI32*-$L$32*2 -> 0 | AK32: =AI32*-$L$33*2 -> 0 | AL32: =AI32*-$L$34*2 -> 0 | AM32: =SUM(AJ32:AL32) -> 0 | AN32: =AC32+AM32 -> 0 | AO32: =AD32+AN32 -> 0 | AQ32: =Z32+AM32 -> 0 | AR32: =P32+AC32+AP32 -> 0 | AS32: =AR32+AQ32 -> 0 | AU32: =AQ32+AT32 -> 0 | AV32: =AR32+AU32 -> 0 | AW32: =IF(AV32<=0,0,AV32*-$J$36) -> 0 | AX32: =ROUNDUP(AV32+AW32,2) -> 0 | AY32: =AY31+AX32 -> 0 | EM32: ='DARF e Declaração de IR'!$AJ$13 -> 0
F33: REGISTRO | J33: 0.79 | L33: 0.6 | O33: 44215 | T33: =Q33+S33+R33 -> 0 | U33: =IF(T33=0,"",IF(T33=0,0,Q33/T33)) | W33: =V33*-$J$32*2 -> 0 | X33: =ROUNDDOWN(V33*-$J$33,3)*2 -> 0 | Y33: =V33*-$J$34*2 -> 0 | Z33: =SUM(W33:Y33) -> 0 | AA33: =P33+Z33 -> 0 | AB33: =Q33+AA33 -> 0 | AG33: =AD33+AF33+AE33 -> 0 | AH33: =IF(AG33=0,"",IF(AG33=0,0,AD33/AG33)) | AJ33: =AI33*-$L$32*2 -> 0 | AK33: =AI33*-$L$33*2 -> 0 | AL33: =AI33*-$L$34*2 -> 0 | AM33: =SUM(AJ33:AL33) -> 0 | AN33: =AC33+AM33 -> 0 | AO33: =AD33+AN33 -> 0 | AQ33: =Z33+AM33 -> 0 | AR33: =P33+AC33+AP33 -> 0 | AS33: =AR33+AQ33 -> 0 | AU33: =AQ33+AT33 -> 0 | AV33: =AR33+AU33 -> 0 | AW33: =IF(AV33<=0,0,AV33*-$J$36) -> 0 | AX33: =ROUNDUP(AV33+AW33,2) -> 0 | AY33: =AY32+AX33 -> 0 | EM33: ='DARF e Declaração de IR'!$AJ$13 -> 0
F34: EMOLUMENTOS | J34: 0.43 | L34: 0.32 | O34: 44216 | T34: =Q34+S34+R34 -> 0 | U34: =IF(T34=0,"",IF(T34=0,0,Q34/T34)) | W34: =V34*-$J$32*2 -> 0 | X34: =ROUNDDOWN(V34*-$J$33,3)*2 -> 0 | Y34: =V34*-$J$34*2 -> 0 | Z34: =SUM(W34:Y34) -> 0 | AA34: =P34+Z34 -> 0 | AB34: =Q34+AA34 -> 0 | AG34: =AD34+AF34+AE34 -> 0 | AH34: =IF(AG34=0,"",IF(AG34=0,0,AD34/AG34)) | AJ34: =AI34*-$L$32*2 -> 0 | AK34: =AI34*-$L$33*2 -> 0 | AL34: =AI34*-$L$34*2 -> 0 | AM34: =SUM(AJ34:AL34) -> 0 | AN34: =AC34+AM34 -> 0 | AO34: =AD34+AN34 -> 0 | AQ34: =Z34+AM34 -> 0 | AR34: =P34+AC34+AP34 -> 0 | AS34: =AR34+AQ34 -> 0 | AU34: =AQ34+AT34 -> 0 | AV34: =AR34+AU34 -> 0 | AW34: =IF(AV34<=0,0,AV34*-$J$36) -> 0 | AX34: =ROUNDUP(AV34+AW34,2) -> 0 | AY34: =AY33+AX34 -> 0 | EM34: ='DARF e Declaração de IR'!$AJ$13 -> 0
F35: ISS | J35: 0 | L35: 0 | O35: 44217 | T35: =Q35+S35+R35 -> 0 | U35: =IF(T35=0,"",IF(T35=0,0,Q35/T35)) | W35: =V35*-$J$32*2 -> 0 | X35: =ROUNDDOWN(V35*-$J$33,3)*2 -> 0 | Y35: =V35*-$J$34*2 -> 0 | Z35: =SUM(W35:Y35) -> 0 | AA35: =P35+Z35 -> 0 | AB35: =Q35+AA35 -> 0 | AG35: =AD35+AF35+AE35 -> 0 | AH35: =IF(AG35=0,"",IF(AG35=0,0,AD35/AG35)) | AJ35: =AI35*-$L$32*2 -> 0 | AK35: =AI35*-$L$33*2 -> 0 | AL35: =AI35*-$L$34*2 -> 0 | AM35: =SUM(AJ35:AL35) -> 0 | AN35: =AC35+AM35 -> 0 | AO35: =AD35+AN35 -> 0 | AQ35: =Z35+AM35 -> 0 | AR35: =P35+AC35+AP35 -> 0 | AS35: =AR35+AQ35 -> 0 | AU35: =AQ35+AT35 -> 0 | AV35: =AR35+AU35 -> 0 | AW35: =IF(AV35<=0,0,AV35*-$J$36) -> 0 | AX35: =ROUNDUP(AV35+AW35,2) -> 0 | AY35: =AY34+AX35 -> 0 | EM35: ='DARF e Declaração de IR'!$AJ$13 -> 0
F36: IRRF DIÁRIO | J36: 0.01 | O36: 44218 | T36: =Q36+S36+R36 -> 0 | U36: =IF(T36=0,"",IF(T36=0,0,Q36/T36)) | W36: =V36*-$J$32*2 -> 0 | X36: =ROUNDDOWN(V36*-$J$33,3)*2 -> 0 | Y36: =V36*-$J$34*2 -> 0 | Z36: =SUM(W36:Y36) -> 0 | AA36: =P36+Z36 -> 0 | AB36: =Q36+AA36 -> 0 | AG36: =AD36+AF36+AE36 -> 0 | AH36: =IF(AG36=0,"",IF(AG36=0,0,AD36/AG36)) | AJ36: =AI36*-$L$32*2 -> 0 | AK36: =AI36*-$L$33*2 -> 0 | AL36: =AI36*-$L$34*2 -> 0 | AM36: =SUM(AJ36:AL36) -> 0 | AN36: =AC36+AM36 -> 0 | AO36: =AD36+AN36 -> 0 | AQ36: =Z36+AM36 -> 0 | AR36: =P36+AC36+AP36 -> 0 | AS36: =AR36+AQ36 -> 0 | AU36: =AQ36+AT36 -> 0 | AV36: =AR36+AU36 -> 0 | AW36: =IF(AV36<=0,0,AV36*-$J$36) -> 0 | AX36: =ROUNDUP(AV36+AW36,2) -> 0 | AY36: =AY35+AX36 -> 0 | EM36: ='DARF e Declaração de IR'!$AJ$13 -> 0
F37: IR MENSAL | J37: 0.2 | O37: 44219 | T37: =Q37+S37+R37 -> 0 | U37: =IF(T37=0,"",IF(T37=0,0,Q37/T37)) | W37: =V37*-$J$32*2 -> 0 | X37: =ROUNDDOWN(V37*-$J$33,3)*2 -> 0 | Y37: =V37*-$J$34*2 -> 0 | Z37: =SUM(W37:Y37) -> 0 | AA37: =P37+Z37 -> 0 | AB37: =Q37+AA37 -> 0 | AG37: =AD37+AF37+AE37 -> 0 | AH37: =IF(AG37=0,"",IF(AG37=0,0,AD37/AG37)) | AJ37: =AI37*-$L$32*2 -> 0 | AK37: =AI37*-$L$33*2 -> 0 | AL37: =AI37*-$L$34*2 -> 0 | AM37: =SUM(AJ37:AL37) -> 0 | AN37: =AC37+AM37 -> 0 | AO37: =AD37+AN37 -> 0 | AQ37: =Z37+AM37 -> 0 | AR37: =P37+AC37+AP37 -> 0 | AS37: =AR37+AQ37 -> 0 | AU37: =AQ37+AT37 -> 0 | AV37: =AR37+AU37 -> 0 | AW37: =IF(AV37<=0,0,AV37*-$J$36) -> 0 | AX37: =ROUNDUP(AV37+AW37,2) -> 0 | AY37: =AY36+AX37 -> 0 | EM37: ='DARF e Declaração de IR'!$AJ$13 -> 0
O38: 44220 | T38: =Q38+S38+R38 -> 0 | U38: =IF(T38=0,"",IF(T38=0,0,Q38/T38)) | W38: =V38*-$J$32*2 -> 0 | X38: =ROUNDDOWN(V38*-$J$33,3)*2 -> 0 | Y38: =V38*-$J$34*2 -> 0 | Z38: =SUM(W38:Y38) -> 0 | AA38: =P38+Z38 -> 0 | AB38: =Q38+AA38 -> 0 | AG38: =AD38+AF38+AE38 -> 0 | AH38: =IF(AG38=0,"",IF(AG38=0,0,AD38/AG38)) | AJ38: =AI38*-$L$32*2 -> 0 | AK38: =AI38*-$L$33*2 -> 0 | AL38: =AI38*-$L$34*2 -> 0 | AM38: =SUM(AJ38:AL38) -> 0 | AN38: =AC38+AM38 -> 0 | AO38: =AD38+AN38 -> 0 | AQ38: =Z38+AM38 -> 0 | AR38: =P38+AC38+AP38 -> 0 | AS38: =AR38+AQ38 -> 0 | AU38: =AQ38+AT38 -> 0 | AV38: =AR38+AU38 -> 0 | AW38: =IF(AV38<=0,0,AV38*-$J$36) -> 0 | AX38: =ROUNDUP(AV38+AW38,2) -> 0 | AY38: =AY37+AX38 -> 0 | EM38: ='DARF e Declaração de IR'!$AJ$13 -> 0
F39: PEFORMANCE | J39: WDO | L39: WIN | O39: 44221 | T39: =Q39+S39+R39 -> 0 | U39: =IF(T39=0,"",IF(T39=0,0,Q39/T39)) | W39: =V39*-$J$32*2 -> 0 | X39: =ROUNDDOWN(V39*-$J$33,3)*2 -> 0 | Y39: =V39*-$J$34*2 -> 0 | Z39: =SUM(W39:Y39) -> 0 | AA39: =P39+Z39 -> 0 | AB39: =Q39+AA39 -> 0 | AG39: =AD39+AF39+AE39 -> 0 | AH39: =IF(AG39=0,"",IF(AG39=0,0,AD39/AG39)) | AJ39: =AI39*-$L$32*2 -> 0 | AK39: =AI39*-$L$33*2 -> 0 | AL39: =AI39*-$L$34*2 -> 0 | AM39: =SUM(AJ39:AL39) -> 0 | AN39: =AC39+AM39 -> 0 | AO39: =AD39+AN39 -> 0 | AQ39: =Z39+AM39 -> 0 | AR39: =P39+AC39+AP39 -> 0 | AS39: =AR39+AQ39 -> 0 | AU39: =AQ39+AT39 -> 0 | AV39: =AR39+AU39 -> 0 | AW39: =IF(AV39<=0,0,AV39*-$J$36) -> 0 | AX39: =ROUNDUP(AV39+AW39,2) -> 0 | AY39: =AY38+AX39 -> 0 | EM39: ='DARF e Declaração de IR'!$AJ$13 -> 0
F40: TOTAL DE OPER. | J40: =T46 -> 0 | L40: =AG46 -> 0 | O40: 44222 | T40: =Q40+S40+R40 -> 0 | U40: =IF(T40=0,"",IF(T40=0,0,Q40/T40)) | W40: =V40*-$J$32*2 -> 0 | X40: =ROUNDDOWN(V40*-$J$33,3)*2 -> 0 | Y40: =V40*-$J$34*2 -> 0 | Z40: =SUM(W40:Y40) -> 0 | AA40: =P40+Z40 -> 0 | AB40: =Q40+AA40 -> 0 | AG40: =AD40+AF40+AE40 -> 0 | AH40: =IF(AG40=0,"",IF(AG40=0,0,AD40/AG40)) | AJ40: =AI40*-$L$32*2 -> 0 | AK40: =AI40*-$L$33*2 -> 0 | AL40: =AI40*-$L$34*2 -> 0 | AM40: =SUM(AJ40:AL40) -> 0 | AN40: =AC40+AM40 -> 0 | AO40: =AD40+AN40 -> 0 | AQ40: =Z40+AM40 -> 0 | AR40: =P40+AC40+AP40 -> 0 | AS40: =AR40+AQ40 -> 0 | AU40: =AQ40+AT40 -> 0 | AV40: =AR40+AU40 -> 0 | AW40: =IF(AV40<=0,0,AV40*-$J$36) -> 0 | AX40: =ROUNDUP(AV40+AW40,2) -> 0 | AY40: =AY39+AX40 -> 0 | EM40: ='DARF e Declaração de IR'!$AJ$13 -> 0
F41: OP. GAIN | J41: =Q46 -> 0 | L41: =AD46 -> 0 | O41: 44223 | T41: =Q41+S41+R41 -> 0 | U41: =IF(T41=0,"",IF(T41=0,0,Q41/T41)) | W41: =V41*-$J$32*2 -> 0 | X41: =ROUNDDOWN(V41*-$J$33,3)*2 -> 0 | Y41: =V41*-$J$34*2 -> 0 | Z41: =SUM(W41:Y41) -> 0 | AA41: =P41+Z41 -> 0 | AB41: =Q41+AA41 -> 0 | AG41: =AD41+AF41+AE41 -> 0 | AH41: =IF(AG41=0,"",IF(AG41=0,0,AD41/AG41)) | AJ41: =AI41*-$L$32*2 -> 0 | AK41: =AI41*-$L$33*2 -> 0 | AL41: =AI41*-$L$34*2 -> 0 | AM41: =SUM(AJ41:AL41) -> 0 | AN41: =AC41+AM41 -> 0 | AO41: =AD41+AN41 -> 0 | AQ41: =Z41+AM41 -> 0 | AR41: =P41+AC41+AP41 -> 0 | AS41: =AR41+AQ41 -> 0 | AU41: =AQ41+AT41 -> 0 | AV41: =AR41+AU41 -> 0 | AW41: =IF(AV41<=0,0,AV41*-$J$36) -> 0 | AX41: =ROUNDUP(AV41+AW41,2) -> 0 | AY41: =AY40+AX41 -> 0 | EM41: ='DARF e Declaração de IR'!$AJ$13 -> 0
F42: OP. LOSS | J42: =R46 -> 0 | L42: =AE46 -> 0 | O42: 44224 | T42: =Q42+S42+R42 -> 0 | U42: =IF(T42=0,"",IF(T42=0,0,Q42/T42)) | W42: =V42*-$J$32*2 -> 0 | X42: =ROUNDDOWN(V42*-$J$33,3)*2 -> 0 | Y42: =V42*-$J$34*2 -> 0 | Z42: =SUM(W42:Y42) -> 0 | AA42: =P42+Z42 -> 0 | AB42: =Q42+AA42 -> 0 | AG42: =AD42+AF42+AE42 -> 0 | AH42: =IF(AG42=0,"",IF(AG42=0,0,AD42/AG42)) | AJ42: =AI42*-$L$32*2 -> 0 | AK42: =AI42*-$L$33*2 -> 0 | AL42: =AI42*-$L$34*2 -> 0 | AM42: =SUM(AJ42:AL42) -> 0 | AN42: =AC42+AM42 -> 0 | AO42: =AD42+AN42 -> 0 | AQ42: =Z42+AM42 -> 0 | AR42: =P42+AC42+AP42 -> 0 | AS42: =AR42+AQ42 -> 0 | AU42: =AQ42+AT42 -> 0 | AV42: =AR42+AU42 -> 0 | AW42: =IF(AV42<=0,0,AV42*-$J$36) -> 0 | AX42: =ROUNDUP(AV42+AW42,2) -> 0 | AY42: =AY41+AX42 -> 0 | EM42: ='DARF e Declaração de IR'!$AJ$13 -> 0
F43: OP. ZERADAS | J43: =S46 -> 0 | L43: =AF46 -> 0 | O43: 44225 | T43: =Q43+S43+R43 -> 0 | U43: =IF(T43=0,"",IF(T43=0,0,Q43/T43)) | W43: =V43*-$J$32*2 -> 0 | X43: =ROUNDDOWN(V43*-$J$33,3)*2 -> 0 | Y43: =V43*-$J$34*2 -> 0 | Z43: =SUM(W43:Y43) -> 0 | AA43: =P43+Z43 -> 0 | AB43: =Q43+AA43 -> 0 | AG43: =AD43+AF43+AE43 -> 0 | AH43: =IF(AG43=0,"",IF(AG43=0,0,AD43/AG43)) | AJ43: =AI43*-$L$32*2 -> 0 | AK43: =AI43*-$L$33*2 -> 0 | AL43: =AI43*-$L$34*2 -> 0 | AM43: =SUM(AJ43:AL43) -> 0 | AN43: =AC43+AM43 -> 0 | AO43: =AD43+AN43 -> 0 | AQ43: =Z43+AM43 -> 0 | AR43: =P43+AC43+AP43 -> 0 | AS43: =AR43+AQ43 -> 0 | AU43: =AQ43+AT43 -> 0 | AV43: =AR43+AU43 -> 0 | AW43: =IF(AV43<=0,0,AV43*-$J$36) -> 0 | AX43: =ROUNDUP(AV43+AW43,2) -> 0 | AY43: =AY42+AX43 -> 0 | EM43: ='DARF e Declaração de IR'!$AJ$13 -> 0
F44: % GAIN | J44: =U46 -> 0 | L44: =AH46 -> 0 | O44: 44226 | T44: =Q44+S44+R44 -> 0 | U44: =IF(T44=0,"",IF(T44=0,0,Q44/T44)) | W44: =V44*-$J$32*2 -> 0 | X44: =ROUNDDOWN(V44*-$J$33,3)*2 -> 0 | Y44: =V44*-$J$34*2 -> 0 | Z44: =SUM(W44:Y44) -> 0 | AA44: =P44+Z44 -> 0 | AB44: =Q44+AA44 -> 0 | AG44: =AD44+AF44+AE44 -> 0 | AH44: =IF(AG44=0,"",IF(AG44=0,0,AD44/AG44)) | AJ44: =AI44*-$L$32*2 -> 0 | AK44: =AI44*-$L$33*2 -> 0 | AL44: =AI44*-$L$34*2 -> 0 | AM44: =SUM(AJ44:AL44) -> 0 | AN44: =AC44+AM44 -> 0 | AO44: =AD44+AN44 -> 0 | AQ44: =Z44+AM44 -> 0 | AR44: =P44+AC44+AP44 -> 0 | AS44: =AR44+AQ44 -> 0 | AU44: =AQ44+AT44 -> 0 | AV44: =AR44+AU44 -> 0 | AW44: =IF(AV44<=0,0,AV44*-$J$36) -> 0 | AX44: =ROUNDUP(AV44+AW44,2) -> 0 | AY44: =AY43+AX44 -> 0 | EM44: ='DARF e Declaração de IR'!$AJ$13 -> 0
...

Sheet DARF e Declaração de IR
F3: DARF E DECLARAÇÃO DE IR
E5: PREENHA OS CAMPOS ABAIXO SOMENTE SE VOCÊ TIVER HISTÓRICO DE OPERAÇÕES ANTERIORES | N5: LINKS ÚTEIS
E7: SALDO LÍQUIDO DO ÚLTIMO MÊS OPERADO | G7: PREJUIZO LÍQUIDO ACUMULADO DOS ANOS ANTERIORES | I7: COMPENSAÇÃO IRRF DO MÊS ANTERIOR | K7: COMPENSAÇÃO DARF MÊS ANTERIOR | AM7: ÍNDICE DE ASSERTIVIDADES NOS ATIVOS | AS7: ÍNDICE DE ASSERTIVIDADES NOS TIPOS DE OPERAÇÕES POR ATIVO | AY7: QUANTIDADE DE OPERAÇÕES POR ATIVO | BH7: SALDO LÍQUIDO POR ATIVO | BQ7: SALDO LÍQUIDO ACUMULADO POR ATIVO | BZ7: SALDO LÍQUIDO FINAL NA NOTA DE CORRETAGEM DA SOMA DE TODOS OS ATIVOS | CI7: SALDO LÍQUIDO FINAL ACUMULADO NA NOTA DE CORRETAGEM DA SOMA DE TODOS OS ATIVOS | CR7: SAQUES E APORTES
D11: 2021 | E11: DADOS PARA A DECLARAÇÃO DE IR ANUAL | I11: DETALHES | T11: RESUMO WDO | AA11: RESUMO WIN | AH11: RESUMO GERAL
E12: RESULTADO LÍQUIDO DÓLAR (WDO) | F12: RESULTADO LÍQUIDO ÍNDICE (WIN) | G12: IRRF DE (1%) NO MÊS | H12: DARF PAGA | I12: RESULTADO LÍQUIDO | J12: IRRF DE (1%) | K12: COMPENSAÇÃO DARF MÊS ANTERIOR | L12: COMPENSAÇÃO PREJUIZO ANTERIOR | M12: COMPENSAÇÃO IRRF MÊS ANTERIOR | N12: IR MENSAL (20%) | O12: SALDO ANTES IR (BASE DE CÁLCULO) | P12: DARF A COMPENSAR | Q12: DARF A PAGAR | R12: COMPENSAÇÃO DE PREJUÍRO PARA LUCRO FUTURO | S12: IRRF A COMPENSAR EM MESES FUTUROS | T12: TOTAL DE OPERAÇÕES | U12: OP. GAIN | V12: OP. LOSS | W12: OP. ZERADAS | X12: % GAIN | Y12: =E12 -> RESULTADO LÍQUIDO DÓLAR (WDO) | Z12: RESULTADO LÍQUIDO ACUMULADO | AA12: TOTAL DE OPERAÇÕES | AB12: OP. GAIN | AC12: OP. LOSS | AD12: OP. ZERADAS | AE12: % GAIN | AF12: =F12 -> RESULTADO LÍQUIDO ÍNDICE (WIN) | AG12: RESULTADO LÍQUIDO ACUMULADO | AH12: SALDO LÍQUIDO | AI12: SALDO LÍQUIDO ACUMULADO | AJ12: META BASEADA NO % DO MÊS ATUAL | AK12: SAQUES TOTAIS | AL12: APORTES TOTAIS
